BEGIN:VCALENDAR
VERSION:2.0
PRODID:-//Tukios.com/
BEGIN:VEVENT
UID:92b4a9d9-2745-4143-8dce-b3b0ef61c404@www.pfh.care
DTSTAMP:20260424T052217Z
DTSTART:20260425T191500Z
DTEND:20260425T210000Z
SUMMARY:Other
DESCRIPTION:If anyone would like to help with or bring food, 
Call or 
	Text Vivian Enriquez (661) 703-8411
Casual wear welcome-
 Hawaiian, 
	Country, bright colors.
URL:https://www.pfh.care/obituaries/matthew-rodriguez
LOCATION:Fruitvale Norris Community Center 6221 Norris Rd.  Bakersfield 
	CA 93308
GEO:35.4189334;-119.0726041
END:VEVENT
END:VCALENDAR