BEGIN:VCALENDAR
VERSION:2.0
PRODID:-//Tukios.com/
BEGIN:VEVENT
UID:705ed630-8d9f-4347-a992-49833808202c@www.pfh.care
DTSTAMP:20260424T052217Z
DTSTART:20260425T180000Z
DTEND:20260425T190000Z
SUMMARY:Celebration of Life
DESCRIPTION:
URL:https://www.pfh.care/obituaries/matthew-rodriguez
LOCATION:Rosedale Church of Christ 3011 Allen Rd  Bakersfield CA 93314
GEO:35.3872812;-119.1463949
END:VEVENT
END:VCALENDAR