BEGIN:VCALENDAR
VERSION:2.0
PRODID:-//Tukios.com/
BEGIN:VEVENT
UID:2530b23f-851f-4b38-b38a-5bf10f4d4dce@www.pfh.care
DTSTAMP:20260423T201858Z
DTSTART:20260508T210000Z
DTEND:20260508T230000Z
SUMMARY:Memorial Service
DESCRIPTION:
URL:https://www.pfh.care/obituaries/gil-aguilar
LOCATION: 844 E Lerdo Hwy  Shafter CA 93263
GEO:35.5001759;-119.2618509
END:VEVENT
END:VCALENDAR